BEGIN:VCALENDAR
VERSION:2.0
PRODID:-//Christ Church CofE (VC) Primary School - ECPv6.15.20//NONSGML v1.0//EN
CALSCALE:GREGORIAN
METHOD:PUBLISH
X-WR-CALNAME:Christ Church CofE (VC) Primary School
X-ORIGINAL-URL:https://www.christchurch.wilts.sch.uk
X-WR-CALDESC:Events for Christ Church CofE (VC) Primary School
REFRESH-INTERVAL;VALUE=DURATION:PT1H
X-Robots-Tag:noindex
X-PUBLISHED-TTL:PT1H
BEGIN:VTIMEZONE
TZID:Europe/London
BEGIN:DAYLIGHT
TZOFFSETFROM:+0000
TZOFFSETTO:+0100
TZNAME:BST
DTSTART:20180325T010000
END:DAYLIGHT
BEGIN:STANDARD
TZOFFSETFROM:+0100
TZOFFSETTO:+0000
TZNAME:GMT
DTSTART:20181028T010000
END:STANDARD
BEGIN:DAYLIGHT
TZOFFSETFROM:+0000
TZOFFSETTO:+0100
TZNAME:BST
DTSTART:20190331T010000
END:DAYLIGHT
BEGIN:STANDARD
TZOFFSETFROM:+0100
TZOFFSETTO:+0000
TZNAME:GMT
DTSTART:20191027T010000
END:STANDARD
BEGIN:DAYLIGHT
TZOFFSETFROM:+0000
TZOFFSETTO:+0100
TZNAME:BST
DTSTART:20200329T010000
END:DAYLIGHT
BEGIN:STANDARD
TZOFFSETFROM:+0100
TZOFFSETTO:+0000
TZNAME:GMT
DTSTART:20201025T010000
END:STANDARD
END:VTIMEZONE
BEGIN:VEVENT
DTSTART;TZID=Europe/London:20191002T133000
DTEND;TZID=Europe/London:20191002T163000
DTSTAMP:20260423T044730
CREATED:20190904T104742Z
LAST-MODIFIED:20190904T104914Z
UID:9360-1570023000-1570033800@www.christchurch.wilts.sch.uk
SUMMARY:Safeguarding Training 12.30 - 3.30pm
DESCRIPTION:
URL:https://www.christchurch.wilts.sch.uk/calendar/safeguarding-training-10/
END:VEVENT
BEGIN:VEVENT
DTSTART;TZID=Europe/London:20191002T193000
DTEND;TZID=Europe/London:20191002T223000
DTSTAMP:20260423T044730
CREATED:20190904T105010Z
LAST-MODIFIED:20190904T105015Z
UID:9365-1570044600-1570055400@www.christchurch.wilts.sch.uk
SUMMARY:Safeguarding Training 6.30 - 9.30pm
DESCRIPTION:
URL:https://www.christchurch.wilts.sch.uk/calendar/safeguarding-training-6-30-9-30pm/
END:VEVENT
END:VCALENDAR