BEGIN:VCALENDAR
VERSION:2.0
PRODID:-//Christ Church CofE (VC) Primary School - ECPv6.15.20//NONSGML v1.0//EN
CALSCALE:GREGORIAN
METHOD:PUBLISH
X-WR-CALNAME:Christ Church CofE (VC) Primary School
X-ORIGINAL-URL:https://www.christchurch.wilts.sch.uk
X-WR-CALDESC:Events for Christ Church CofE (VC) Primary School
REFRESH-INTERVAL;VALUE=DURATION:PT1H
X-Robots-Tag:noindex
X-PUBLISHED-TTL:PT1H
BEGIN:VTIMEZONE
TZID:Europe/London
BEGIN:DAYLIGHT
TZOFFSETFROM:+0000
TZOFFSETTO:+0100
TZNAME:BST
DTSTART:20180325T010000
END:DAYLIGHT
BEGIN:STANDARD
TZOFFSETFROM:+0100
TZOFFSETTO:+0000
TZNAME:GMT
DTSTART:20181028T010000
END:STANDARD
BEGIN:DAYLIGHT
TZOFFSETFROM:+0000
TZOFFSETTO:+0100
TZNAME:BST
DTSTART:20190331T010000
END:DAYLIGHT
BEGIN:STANDARD
TZOFFSETFROM:+0100
TZOFFSETTO:+0000
TZNAME:GMT
DTSTART:20191027T010000
END:STANDARD
BEGIN:DAYLIGHT
TZOFFSETFROM:+0000
TZOFFSETTO:+0100
TZNAME:BST
DTSTART:20200329T010000
END:DAYLIGHT
BEGIN:STANDARD
TZOFFSETFROM:+0100
TZOFFSETTO:+0000
TZNAME:GMT
DTSTART:20201025T010000
END:STANDARD
END:VTIMEZONE
BEGIN:VEVENT
DTSTART;VALUE=DATE:20191021
DTEND;VALUE=DATE:20191023
DTSTAMP:20260423T044642
CREATED:20190708T085417Z
LAST-MODIFIED:20190708T094203Z
UID:9088-1571619600-1571705999@www.christchurch.wilts.sch.uk
SUMMARY:INSET Day - SCHOOL IS CLOSED
DESCRIPTION:
URL:https://www.christchurch.wilts.sch.uk/calendar/inset-day-school-is-closed-2/
END:VEVENT
BEGIN:VEVENT
DTSTART;VALUE=DATE:20191021
DTEND;VALUE=DATE:20191023
DTSTAMP:20260423T044642
CREATED:20190718T084538Z
LAST-MODIFIED:20190718T084544Z
UID:9282-1571619600-1571705999@www.christchurch.wilts.sch.uk
SUMMARY:Finance Governors’ meeting
DESCRIPTION:
URL:https://www.christchurch.wilts.sch.uk/calendar/finance-governors-meeting-3/
END:VEVENT
BEGIN:VEVENT
DTSTART;VALUE=DATE:20191022
DTEND;VALUE=DATE:20191024
DTSTAMP:20260423T044642
CREATED:20190708T085454Z
LAST-MODIFIED:20190708T094141Z
UID:9090-1571706000-1571792399@www.christchurch.wilts.sch.uk
SUMMARY:INSET Day - SCHOOL IS CLOSED
DESCRIPTION:
URL:https://www.christchurch.wilts.sch.uk/calendar/inset-day-school-is-closed-3/
END:VEVENT
END:VCALENDAR