BEGIN:VCALENDAR
VERSION:2.0
PRODID:-//Christ Church CofE (VC) Primary School - ECPv6.15.20//NONSGML v1.0//EN
CALSCALE:GREGORIAN
METHOD:PUBLISH
X-ORIGINAL-URL:https://www.christchurch.wilts.sch.uk
X-WR-CALDESC:Events for Christ Church CofE (VC) Primary School
REFRESH-INTERVAL;VALUE=DURATION:PT1H
X-Robots-Tag:noindex
X-PUBLISHED-TTL:PT1H
BEGIN:VTIMEZONE
TZID:Europe/London
BEGIN:DAYLIGHT
TZOFFSETFROM:+0000
TZOFFSETTO:+0100
TZNAME:BST
DTSTART:20190331T010000
END:DAYLIGHT
BEGIN:STANDARD
TZOFFSETFROM:+0100
TZOFFSETTO:+0000
TZNAME:GMT
DTSTART:20191027T010000
END:STANDARD
BEGIN:DAYLIGHT
TZOFFSETFROM:+0000
TZOFFSETTO:+0100
TZNAME:BST
DTSTART:20200329T010000
END:DAYLIGHT
BEGIN:STANDARD
TZOFFSETFROM:+0100
TZOFFSETTO:+0000
TZNAME:GMT
DTSTART:20201025T010000
END:STANDARD
BEGIN:DAYLIGHT
TZOFFSETFROM:+0000
TZOFFSETTO:+0100
TZNAME:BST
DTSTART:20210328T010000
END:DAYLIGHT
BEGIN:STANDARD
TZOFFSETFROM:+0100
TZOFFSETTO:+0000
TZNAME:GMT
DTSTART:20211031T010000
END:STANDARD
END:VTIMEZONE
BEGIN:VEVENT
DTSTART;VALUE=DATE:20200214
DTEND;VALUE=DATE:20200215
DTSTAMP:20260422T222559
CREATED:20190710T074053Z
LAST-MODIFIED:20190710T074058Z
UID:9157-1581638400-1581724799@www.christchurch.wilts.sch.uk
SUMMARY:End of Term 3
DESCRIPTION:
URL:https://www.christchurch.wilts.sch.uk/calendar/end-of-term-3-2/
END:VEVENT
BEGIN:VEVENT
DTSTART;VALUE=DATE:20200214
DTEND;VALUE=DATE:20200215
DTSTAMP:20260422T222559
CREATED:20190710T074322Z
LAST-MODIFIED:20190710T074328Z
UID:9161-1581638400-1581724799@www.christchurch.wilts.sch.uk
SUMMARY:End of Term service in Christ Church(pupils only)
DESCRIPTION:
URL:https://www.christchurch.wilts.sch.uk/calendar/end-of-term-service-in-christ-churchpupils-only/
END:VEVENT
BEGIN:VEVENT
DTSTART;TZID=Europe/London:20200214T090000
DTEND;TZID=Europe/London:20200214T213000
DTSTAMP:20260422T222559
CREATED:20190710T074023Z
LAST-MODIFIED:20190710T074450Z
UID:9155-1581670800-1581715800@www.christchurch.wilts.sch.uk
SUMMARY:Collective Worship for Badgers(Year 1)
DESCRIPTION:
URL:https://www.christchurch.wilts.sch.uk/calendar/collective-worship-for-badgersyear-1/
END:VEVENT
END:VCALENDAR