BEGIN:VCALENDAR
VERSION:2.0
PRODID:-//Christ Church CofE (VC) Primary School - ECPv6.15.20//NONSGML v1.0//EN
CALSCALE:GREGORIAN
METHOD:PUBLISH
X-ORIGINAL-URL:https://www.christchurch.wilts.sch.uk
X-WR-CALDESC:Events for Christ Church CofE (VC) Primary School
REFRESH-INTERVAL;VALUE=DURATION:PT1H
X-Robots-Tag:noindex
X-PUBLISHED-TTL:PT1H
BEGIN:VTIMEZONE
TZID:Europe/London
BEGIN:DAYLIGHT
TZOFFSETFROM:+0000
TZOFFSETTO:+0100
TZNAME:BST
DTSTART:20200329T010000
END:DAYLIGHT
BEGIN:STANDARD
TZOFFSETFROM:+0100
TZOFFSETTO:+0000
TZNAME:GMT
DTSTART:20201025T010000
END:STANDARD
BEGIN:DAYLIGHT
TZOFFSETFROM:+0000
TZOFFSETTO:+0100
TZNAME:BST
DTSTART:20210328T010000
END:DAYLIGHT
BEGIN:STANDARD
TZOFFSETFROM:+0100
TZOFFSETTO:+0000
TZNAME:GMT
DTSTART:20211031T010000
END:STANDARD
BEGIN:DAYLIGHT
TZOFFSETFROM:+0000
TZOFFSETTO:+0100
TZNAME:BST
DTSTART:20220327T010000
END:DAYLIGHT
BEGIN:STANDARD
TZOFFSETFROM:+0100
TZOFFSETTO:+0000
TZNAME:GMT
DTSTART:20221030T010000
END:STANDARD
END:VTIMEZONE
BEGIN:VEVENT
DTSTART;TZID=Europe/London:20210908T180000
DTEND;TZID=Europe/London:20210908T190000
DTSTAMP:20260421T174726
CREATED:20210709T101312Z
LAST-MODIFIED:20210709T101312Z
UID:11606-1631124000-1631127600@www.christchurch.wilts.sch.uk
SUMMARY:Year 5 - Welcome meeting
DESCRIPTION:Welcome meeting – may be remote
URL:https://www.christchurch.wilts.sch.uk/calendar/year-5-welcome-meeting/
END:VEVENT
BEGIN:VEVENT
DTSTART;TZID=Europe/London:20210908T190000
DTEND;TZID=Europe/London:20210908T200000
DTSTAMP:20260421T174726
CREATED:20210709T101408Z
LAST-MODIFIED:20210709T101408Z
UID:11608-1631127600-1631131200@www.christchurch.wilts.sch.uk
SUMMARY:Year 6 - Welcome meeting
DESCRIPTION:Welcome meeting – may be remote
URL:https://www.christchurch.wilts.sch.uk/calendar/year-6-welcome-meeting/
END:VEVENT
END:VCALENDAR