BEGIN:VCALENDAR
VERSION:2.0
PRODID:-//Christ Church CofE (VC) Primary School - ECPv6.15.20//NONSGML v1.0//EN
CALSCALE:GREGORIAN
METHOD:PUBLISH
X-ORIGINAL-URL:https://www.christchurch.wilts.sch.uk
X-WR-CALDESC:Events for Christ Church CofE (VC) Primary School
REFRESH-INTERVAL;VALUE=DURATION:PT1H
X-Robots-Tag:noindex
X-PUBLISHED-TTL:PT1H
BEGIN:VTIMEZONE
TZID:Europe/London
BEGIN:DAYLIGHT
TZOFFSETFROM:+0000
TZOFFSETTO:+0100
TZNAME:BST
DTSTART:20180325T010000
END:DAYLIGHT
BEGIN:STANDARD
TZOFFSETFROM:+0100
TZOFFSETTO:+0000
TZNAME:GMT
DTSTART:20181028T010000
END:STANDARD
BEGIN:DAYLIGHT
TZOFFSETFROM:+0000
TZOFFSETTO:+0100
TZNAME:BST
DTSTART:20190331T010000
END:DAYLIGHT
BEGIN:STANDARD
TZOFFSETFROM:+0100
TZOFFSETTO:+0000
TZNAME:GMT
DTSTART:20191027T010000
END:STANDARD
BEGIN:DAYLIGHT
TZOFFSETFROM:+0000
TZOFFSETTO:+0100
TZNAME:BST
DTSTART:20200329T010000
END:DAYLIGHT
BEGIN:STANDARD
TZOFFSETFROM:+0100
TZOFFSETTO:+0000
TZNAME:GMT
DTSTART:20201025T010000
END:STANDARD
END:VTIMEZONE
BEGIN:VEVENT
DTSTART;VALUE=DATE:20191024
DTEND;VALUE=DATE:20191102
DTSTAMP:20260423T012831
CREATED:20190708T094742Z
LAST-MODIFIED:20190708T094746Z
UID:9131-1571878800-1572652799@www.christchurch.wilts.sch.uk
SUMMARY:Half Term
DESCRIPTION:
URL:https://www.christchurch.wilts.sch.uk/calendar/half-term-6/
END:VEVENT
BEGIN:VEVENT
DTSTART;VALUE=DATE:20191102
DTEND;VALUE=DATE:20191103
DTSTAMP:20260423T012831
CREATED:20190708T085855Z
LAST-MODIFIED:20190708T085855Z
UID:9096-1572652800-1572739199@www.christchurch.wilts.sch.uk
SUMMARY:Bonfire at the Beehive field
DESCRIPTION:
URL:https://www.christchurch.wilts.sch.uk/calendar/bonfire-at-the-beehive-field/
END:VEVENT
BEGIN:VEVENT
DTSTART;VALUE=DATE:20191104
DTEND;VALUE=DATE:20191105
DTSTAMP:20260423T012831
CREATED:20190708T085957Z
LAST-MODIFIED:20190708T094031Z
UID:9098-1572825600-1572911999@www.christchurch.wilts.sch.uk
SUMMARY:Term 2 begins
DESCRIPTION:
URL:https://www.christchurch.wilts.sch.uk/calendar/term-2-begins/
END:VEVENT
BEGIN:VEVENT
DTSTART;TZID=Europe/London:20191112T160000
DTEND;TZID=Europe/London:20191112T173000
DTSTAMP:20260423T012831
CREATED:20190904T105901Z
LAST-MODIFIED:20190904T105906Z
UID:9367-1573574400-1573579800@www.christchurch.wilts.sch.uk
SUMMARY:Tea Time Concert
DESCRIPTION:Tea Time Concert
URL:https://www.christchurch.wilts.sch.uk/calendar/tea-time-concert/
END:VEVENT
BEGIN:VEVENT
DTSTART;VALUE=DATE:20191113
DTEND;VALUE=DATE:20191114
DTSTAMP:20260423T012831
CREATED:20190708T090032Z
LAST-MODIFIED:20190708T090037Z
UID:9100-1573603200-1573689599@www.christchurch.wilts.sch.uk
SUMMARY:Year 6/7 tea party
DESCRIPTION:
URL:https://www.christchurch.wilts.sch.uk/calendar/year-6-7-tea-party-3/
END:VEVENT
BEGIN:VEVENT
DTSTART;VALUE=DATE:20191126
DTEND;VALUE=DATE:20191127
DTSTAMP:20260423T012831
CREATED:20190708T090648Z
LAST-MODIFIED:20190708T093954Z
UID:9102-1574726400-1574812799@www.christchurch.wilts.sch.uk
SUMMARY:Open Afternoon to public and all parents from 2.00pm
DESCRIPTION:
URL:https://www.christchurch.wilts.sch.uk/calendar/open-afternoon-to-public-and-all-parents-from-2-00pm/
END:VEVENT
BEGIN:VEVENT
DTSTART;VALUE=DATE:20191129
DTEND;VALUE=DATE:20191130
DTSTAMP:20260423T012831
CREATED:20190708T090724Z
LAST-MODIFIED:20190708T093934Z
UID:9104-1574985600-1575071999@www.christchurch.wilts.sch.uk
SUMMARY:House Day
DESCRIPTION:
URL:https://www.christchurch.wilts.sch.uk/calendar/house-day-12/
END:VEVENT
END:VCALENDAR