BEGIN:VCALENDAR
VERSION:2.0
PRODID:-//Christ Church CofE (VC) Primary School - ECPv6.15.20//NONSGML v1.0//EN
CALSCALE:GREGORIAN
METHOD:PUBLISH
X-ORIGINAL-URL:https://www.christchurch.wilts.sch.uk
X-WR-CALDESC:Events for Christ Church CofE (VC) Primary School
REFRESH-INTERVAL;VALUE=DURATION:PT1H
X-Robots-Tag:noindex
X-PUBLISHED-TTL:PT1H
BEGIN:VTIMEZONE
TZID:Europe/London
BEGIN:DAYLIGHT
TZOFFSETFROM:+0000
TZOFFSETTO:+0100
TZNAME:BST
DTSTART:20180325T010000
END:DAYLIGHT
BEGIN:STANDARD
TZOFFSETFROM:+0100
TZOFFSETTO:+0000
TZNAME:GMT
DTSTART:20181028T010000
END:STANDARD
BEGIN:DAYLIGHT
TZOFFSETFROM:+0000
TZOFFSETTO:+0100
TZNAME:BST
DTSTART:20190331T010000
END:DAYLIGHT
BEGIN:STANDARD
TZOFFSETFROM:+0100
TZOFFSETTO:+0000
TZNAME:GMT
DTSTART:20191027T010000
END:STANDARD
BEGIN:DAYLIGHT
TZOFFSETFROM:+0000
TZOFFSETTO:+0100
TZNAME:BST
DTSTART:20200329T010000
END:DAYLIGHT
BEGIN:STANDARD
TZOFFSETFROM:+0100
TZOFFSETTO:+0000
TZNAME:GMT
DTSTART:20201025T010000
END:STANDARD
BEGIN:DAYLIGHT
TZOFFSETFROM:+0000
TZOFFSETTO:+0100
TZNAME:BST
DTSTART:20210328T010000
END:DAYLIGHT
BEGIN:STANDARD
TZOFFSETFROM:+0100
TZOFFSETTO:+0000
TZNAME:GMT
DTSTART:20211031T010000
END:STANDARD
END:VTIMEZONE
BEGIN:VEVENT
DTSTART;VALUE=DATE:20191204
DTEND;VALUE=DATE:20191205
DTSTAMP:20260423T000016
CREATED:20190708T090912Z
LAST-MODIFIED:20190708T090912Z
UID:9106-1575417600-1575503999@www.christchurch.wilts.sch.uk
SUMMARY:Flu Immunisatons for all years
DESCRIPTION:
URL:https://www.christchurch.wilts.sch.uk/calendar/flu-immunisatons-for-all-years/
END:VEVENT
BEGIN:VEVENT
DTSTART;TZID=Europe/London:20191204T180000
DTEND;TZID=Europe/London:20191204T180000
DTSTAMP:20260423T000016
CREATED:20190708T091024Z
LAST-MODIFIED:20190708T091036Z
UID:9108-1575482400-1575482400@www.christchurch.wilts.sch.uk
SUMMARY:Christmas Concert at Wiltshire Music Centre(6pm)
DESCRIPTION:
URL:https://www.christchurch.wilts.sch.uk/calendar/christmas-concert-at-wiltshire-music-centre6pm/
END:VEVENT
BEGIN:VEVENT
DTSTART;VALUE=DATE:20191206
DTEND;VALUE=DATE:20191207
DTSTAMP:20260423T000016
CREATED:20190708T091135Z
LAST-MODIFIED:20190708T093921Z
UID:9110-1575590400-1575676799@www.christchurch.wilts.sch.uk
SUMMARY:Collective Worship for 6AD
DESCRIPTION:
URL:https://www.christchurch.wilts.sch.uk/calendar/collective-worship-for-6ad/
END:VEVENT
BEGIN:VEVENT
DTSTART;VALUE=DATE:20191209
DTEND;VALUE=DATE:20191210
DTSTAMP:20260423T000016
CREATED:20190708T091504Z
LAST-MODIFIED:20190708T093907Z
UID:9112-1575849600-1575935999@www.christchurch.wilts.sch.uk
SUMMARY:FS & KS1 Nativity dress rehearsal to whole school
DESCRIPTION:
URL:https://www.christchurch.wilts.sch.uk/calendar/fs-ks1-nativity-dress-rehearsal-to-whole-school/
END:VEVENT
BEGIN:VEVENT
DTSTART;VALUE=DATE:20191210
DTEND;VALUE=DATE:20191211
DTSTAMP:20260423T000016
CREATED:20190718T084742Z
LAST-MODIFIED:20190718T084747Z
UID:9284-1575936000-1576022399@www.christchurch.wilts.sch.uk
SUMMARY:Finance Governors’ meeting
DESCRIPTION:
URL:https://www.christchurch.wilts.sch.uk/calendar/finance-governors-meeting-4/
END:VEVENT
BEGIN:VEVENT
DTSTART;TZID=Europe/London:20191210T140000
DTEND;TZID=Europe/London:20191210T150000
DTSTAMP:20260423T000016
CREATED:20190708T091711Z
LAST-MODIFIED:20190708T093851Z
UID:9114-1575986400-1575990000@www.christchurch.wilts.sch.uk
SUMMARY:FS & KS1 Nativity performance to parents/carers at 2.00pm
DESCRIPTION:
URL:https://www.christchurch.wilts.sch.uk/calendar/fs-ks1-nativity-performance-to-parents-carers-at-2-00pm/
END:VEVENT
BEGIN:VEVENT
DTSTART;TZID=Europe/London:20191211T140000
DTEND;TZID=Europe/London:20191211T150000
DTSTAMP:20260423T000016
CREATED:20190708T091757Z
LAST-MODIFIED:20190708T093838Z
UID:9116-1576072800-1576076400@www.christchurch.wilts.sch.uk
SUMMARY:FS & KS1 Nativity performance to parents/carers at 2.00pm
DESCRIPTION:
URL:https://www.christchurch.wilts.sch.uk/calendar/fs-ks1-nativity-performance-to-parents-carers-at-2-00pm-2/
END:VEVENT
BEGIN:VEVENT
DTSTART;TZID=Europe/London:20191212T140000
DTEND;TZID=Europe/London:20191212T150000
DTSTAMP:20260423T000016
CREATED:20190708T091838Z
LAST-MODIFIED:20190708T093822Z
UID:9118-1576159200-1576162800@www.christchurch.wilts.sch.uk
SUMMARY:FS & KS1 Nativity performance to parents/carers at 2.00pm
DESCRIPTION:
URL:https://www.christchurch.wilts.sch.uk/calendar/fs-ks1-nativity-performance-to-parents-carers-at-2-00pm-3/
END:VEVENT
BEGIN:VEVENT
DTSTART;TZID=Europe/London:20191213T090000
DTEND;TZID=Europe/London:20191213T093000
DTSTAMP:20260423T000016
CREATED:20190708T092054Z
LAST-MODIFIED:20190708T093748Z
UID:9120-1576227600-1576229400@www.christchurch.wilts.sch.uk
SUMMARY:Collective Worship for 3SGCS
DESCRIPTION:
URL:https://www.christchurch.wilts.sch.uk/calendar/collective-worship-for-3sgcs/
END:VEVENT
BEGIN:VEVENT
DTSTART;VALUE=DATE:20191217
DTEND;VALUE=DATE:20191218
DTSTAMP:20260423T000016
CREATED:20190708T092136Z
LAST-MODIFIED:20190708T092140Z
UID:9122-1576540800-1576627199@www.christchurch.wilts.sch.uk
SUMMARY:Christmas Lunch
DESCRIPTION:
URL:https://www.christchurch.wilts.sch.uk/calendar/christmas-lunch-2/
END:VEVENT
BEGIN:VEVENT
DTSTART;VALUE=DATE:20191218
DTEND;VALUE=DATE:20191219
DTSTAMP:20260423T000016
CREATED:20190708T092220Z
LAST-MODIFIED:20190708T093732Z
UID:9124-1576627200-1576713599@www.christchurch.wilts.sch.uk
SUMMARY:Year 4 Nativity to their parents
DESCRIPTION:
URL:https://www.christchurch.wilts.sch.uk/calendar/year-4-nativity-to-their-parents/
END:VEVENT
BEGIN:VEVENT
DTSTART;VALUE=DATE:20191220
DTEND;VALUE=DATE:20191221
DTSTAMP:20260423T000016
CREATED:20190708T092313Z
LAST-MODIFIED:20190708T093511Z
UID:9126-1576800000-1576886399@www.christchurch.wilts.sch.uk
SUMMARY:End of Term 2
DESCRIPTION:
URL:https://www.christchurch.wilts.sch.uk/calendar/end-of-term-2-2/
END:VEVENT
BEGIN:VEVENT
DTSTART;VALUE=DATE:20191220
DTEND;VALUE=DATE:20191221
DTSTAMP:20260423T000016
CREATED:20190708T092359Z
LAST-MODIFIED:20190708T093043Z
UID:9128-1576800000-1576886399@www.christchurch.wilts.sch.uk
SUMMARY:End of Term service in Christ Church lead by Year 4
DESCRIPTION:
URL:https://www.christchurch.wilts.sch.uk/calendar/end-of-term-service-in-christ-church-lead-by-year-4/
END:VEVENT
BEGIN:VEVENT
DTSTART;VALUE=DATE:20191223
DTEND;VALUE=DATE:20200104
DTSTAMP:20260423T000016
CREATED:20190710T072046Z
LAST-MODIFIED:20190710T072103Z
UID:9137-1577059200-1578095999@www.christchurch.wilts.sch.uk
SUMMARY:Half Term
DESCRIPTION:
URL:https://www.christchurch.wilts.sch.uk/calendar/half-term-7/
END:VEVENT
END:VCALENDAR