BEGIN:VCALENDAR
VERSION:2.0
PRODID:-//Christ Church CofE (VC) Primary School - ECPv6.15.20//NONSGML v1.0//EN
CALSCALE:GREGORIAN
METHOD:PUBLISH
X-ORIGINAL-URL:https://www.christchurch.wilts.sch.uk
X-WR-CALDESC:Events for Christ Church CofE (VC) Primary School
REFRESH-INTERVAL;VALUE=DURATION:PT1H
X-Robots-Tag:noindex
X-PUBLISHED-TTL:PT1H
BEGIN:VTIMEZONE
TZID:Europe/London
BEGIN:DAYLIGHT
TZOFFSETFROM:+0000
TZOFFSETTO:+0100
TZNAME:BST
DTSTART:20200329T010000
END:DAYLIGHT
BEGIN:STANDARD
TZOFFSETFROM:+0100
TZOFFSETTO:+0000
TZNAME:GMT
DTSTART:20201025T010000
END:STANDARD
BEGIN:DAYLIGHT
TZOFFSETFROM:+0000
TZOFFSETTO:+0100
TZNAME:BST
DTSTART:20210328T010000
END:DAYLIGHT
BEGIN:STANDARD
TZOFFSETFROM:+0100
TZOFFSETTO:+0000
TZNAME:GMT
DTSTART:20211031T010000
END:STANDARD
BEGIN:DAYLIGHT
TZOFFSETFROM:+0000
TZOFFSETTO:+0100
TZNAME:BST
DTSTART:20220327T010000
END:DAYLIGHT
BEGIN:STANDARD
TZOFFSETFROM:+0100
TZOFFSETTO:+0000
TZNAME:GMT
DTSTART:20221030T010000
END:STANDARD
END:VTIMEZONE
BEGIN:VEVENT
DTSTART;VALUE=DATE:20210503
DTEND;VALUE=DATE:20210504
DTSTAMP:20260421T222001
CREATED:20200721T123548Z
LAST-MODIFIED:20200721T123553Z
UID:10874-1620000000-1620086399@www.christchurch.wilts.sch.uk
SUMMARY:Bank Holiday - school closed to children
DESCRIPTION:
URL:https://www.christchurch.wilts.sch.uk/calendar/bank-holiday-school-closed-to-children/
END:VEVENT
BEGIN:VEVENT
DTSTART;VALUE=DATE:20210528
DTEND;VALUE=DATE:20210529
DTSTAMP:20260421T222001
CREATED:20200721T124204Z
LAST-MODIFIED:20200721T124209Z
UID:10886-1622160000-1622246399@www.christchurch.wilts.sch.uk
SUMMARY:End of Term 5
DESCRIPTION:
URL:https://www.christchurch.wilts.sch.uk/calendar/end-of-term-5-3/
END:VEVENT
BEGIN:VEVENT
DTSTART;TZID=Europe/London:20210528T140000
DTEND;TZID=Europe/London:20210528T150000
DTSTAMP:20260421T222001
CREATED:20200721T124310Z
LAST-MODIFIED:20200721T124316Z
UID:10888-1622210400-1622214000@www.christchurch.wilts.sch.uk
SUMMARY:End of Term service in Christ Church(pupils only)
DESCRIPTION:
URL:https://www.christchurch.wilts.sch.uk/calendar/end-of-term-service-in-christ-churchpupils-only-6/
END:VEVENT
BEGIN:VEVENT
DTSTART;VALUE=DATE:20210531
DTEND;VALUE=DATE:20210605
DTSTAMP:20260421T222001
CREATED:20200721T124358Z
LAST-MODIFIED:20200721T124402Z
UID:10890-1622419200-1622851199@www.christchurch.wilts.sch.uk
SUMMARY:Half-Term
DESCRIPTION:
URL:https://www.christchurch.wilts.sch.uk/calendar/half-term-12/
END:VEVENT
END:VCALENDAR