BEGIN:VCALENDAR
VERSION:2.0
PRODID:-//Christ Church CofE (VC) Primary School - ECPv6.15.20//NONSGML v1.0//EN
CALSCALE:GREGORIAN
METHOD:PUBLISH
X-WR-CALNAME:Christ Church CofE (VC) Primary School
X-ORIGINAL-URL:https://www.christchurch.wilts.sch.uk
X-WR-CALDESC:Events for Christ Church CofE (VC) Primary School
REFRESH-INTERVAL;VALUE=DURATION:PT1H
X-Robots-Tag:noindex
X-PUBLISHED-TTL:PT1H
BEGIN:VTIMEZONE
TZID:Europe/London
BEGIN:DAYLIGHT
TZOFFSETFROM:+0000
TZOFFSETTO:+0100
TZNAME:BST
DTSTART:20200329T010000
END:DAYLIGHT
BEGIN:STANDARD
TZOFFSETFROM:+0100
TZOFFSETTO:+0000
TZNAME:GMT
DTSTART:20201025T010000
END:STANDARD
BEGIN:DAYLIGHT
TZOFFSETFROM:+0000
TZOFFSETTO:+0100
TZNAME:BST
DTSTART:20210328T010000
END:DAYLIGHT
BEGIN:STANDARD
TZOFFSETFROM:+0100
TZOFFSETTO:+0000
TZNAME:GMT
DTSTART:20211031T010000
END:STANDARD
BEGIN:DAYLIGHT
TZOFFSETFROM:+0000
TZOFFSETTO:+0100
TZNAME:BST
DTSTART:20220327T010000
END:DAYLIGHT
BEGIN:STANDARD
TZOFFSETFROM:+0100
TZOFFSETTO:+0000
TZNAME:GMT
DTSTART:20221030T010000
END:STANDARD
END:VTIMEZONE
BEGIN:VEVENT
DTSTART;VALUE=DATE:20210706
DTEND;VALUE=DATE:20210707
DTSTAMP:20260421T191830
CREATED:20201021T195945Z
LAST-MODIFIED:20201021T195949Z
UID:11124-1625529600-1625615999@www.christchurch.wilts.sch.uk
SUMMARY:Year 6 Taster Day
DESCRIPTION:
URL:https://www.christchurch.wilts.sch.uk/calendar/year-6-taster-day/
END:VEVENT
BEGIN:VEVENT
DTSTART;VALUE=DATE:20210715
DTEND;VALUE=DATE:20210716
DTSTAMP:20260421T191830
CREATED:20201021T200422Z
LAST-MODIFIED:20201021T200422Z
UID:11126-1626307200-1626393599@www.christchurch.wilts.sch.uk
SUMMARY:Y5 Curriculum Day at St Laurence
DESCRIPTION:
URL:https://www.christchurch.wilts.sch.uk/calendar/y5-curriculum-day-at-st-laurence/
END:VEVENT
BEGIN:VEVENT
DTSTART;VALUE=DATE:20210723
DTEND;VALUE=DATE:20210724
DTSTAMP:20260421T191830
CREATED:20200721T124940Z
LAST-MODIFIED:20210506T122446Z
UID:10896-1626998400-1627084799@www.christchurch.wilts.sch.uk
SUMMARY:INSET Day - SCHOOL IS CLOSED
DESCRIPTION:
URL:https://www.christchurch.wilts.sch.uk/calendar/inset-day-school-is-closed-10/
END:VEVENT
BEGIN:VEVENT
DTSTART;VALUE=DATE:20210723
DTEND;VALUE=DATE:20210724
DTSTAMP:20260421T191830
CREATED:20200721T130921Z
LAST-MODIFIED:20200721T130945Z
UID:10928-1626998400-1627084799@www.christchurch.wilts.sch.uk
SUMMARY:End of Term 6
DESCRIPTION:
URL:https://www.christchurch.wilts.sch.uk/calendar/end-of-term-6-2/
END:VEVENT
BEGIN:VEVENT
DTSTART;VALUE=DATE:20210726
DTEND;VALUE=DATE:20210901
DTSTAMP:20260421T191830
CREATED:20200721T131025Z
LAST-MODIFIED:20200721T131029Z
UID:10930-1627257600-1630454399@www.christchurch.wilts.sch.uk
SUMMARY:Summer Holidays
DESCRIPTION:
URL:https://www.christchurch.wilts.sch.uk/calendar/summer-holidays/
END:VEVENT
END:VCALENDAR