BEGIN:VCALENDAR
VERSION:2.0
PRODID:-//Christ Church CofE (VC) Primary School - ECPv6.15.20//NONSGML v1.0//EN
CALSCALE:GREGORIAN
METHOD:PUBLISH
X-ORIGINAL-URL:https://www.christchurch.wilts.sch.uk
X-WR-CALDESC:Events for Christ Church CofE (VC) Primary School
REFRESH-INTERVAL;VALUE=DURATION:PT1H
X-Robots-Tag:noindex
X-PUBLISHED-TTL:PT1H
BEGIN:VTIMEZONE
TZID:Europe/London
BEGIN:DAYLIGHT
TZOFFSETFROM:+0000
TZOFFSETTO:+0100
TZNAME:BST
DTSTART:20200329T010000
END:DAYLIGHT
BEGIN:STANDARD
TZOFFSETFROM:+0100
TZOFFSETTO:+0000
TZNAME:GMT
DTSTART:20201025T010000
END:STANDARD
BEGIN:DAYLIGHT
TZOFFSETFROM:+0000
TZOFFSETTO:+0100
TZNAME:BST
DTSTART:20210328T010000
END:DAYLIGHT
BEGIN:STANDARD
TZOFFSETFROM:+0100
TZOFFSETTO:+0000
TZNAME:GMT
DTSTART:20211031T010000
END:STANDARD
BEGIN:DAYLIGHT
TZOFFSETFROM:+0000
TZOFFSETTO:+0100
TZNAME:BST
DTSTART:20220327T010000
END:DAYLIGHT
BEGIN:STANDARD
TZOFFSETFROM:+0100
TZOFFSETTO:+0000
TZNAME:GMT
DTSTART:20221030T010000
END:STANDARD
END:VTIMEZONE
BEGIN:VEVENT
DTSTART;VALUE=DATE:20211101
DTEND;VALUE=DATE:20211102
DTSTAMP:20260421T132459
CREATED:20210827T200742Z
LAST-MODIFIED:20210827T200748Z
UID:11660-1635724800-1635811199@www.christchurch.wilts.sch.uk
SUMMARY:INSET Day - SCHOOL IS CLOSED
DESCRIPTION:
URL:https://www.christchurch.wilts.sch.uk/calendar/inset-day-school-is-closed-11/
END:VEVENT
BEGIN:VEVENT
DTSTART;VALUE=DATE:20211102
DTEND;VALUE=DATE:20211103
DTSTAMP:20260421T132459
CREATED:20210827T200858Z
LAST-MODIFIED:20210827T200904Z
UID:11662-1635811200-1635897599@www.christchurch.wilts.sch.uk
SUMMARY:Term 2 Begins - children return to school
DESCRIPTION:
URL:https://www.christchurch.wilts.sch.uk/calendar/term-2-begins-children-return-to-school-3/
END:VEVENT
BEGIN:VEVENT
DTSTART;TZID=Europe/London:20211112T090000
DTEND;TZID=Europe/London:20211112T100000
DTSTAMP:20260421T132459
CREATED:20210827T201237Z
LAST-MODIFIED:20210827T201237Z
UID:11668-1636707600-1636711200@www.christchurch.wilts.sch.uk
SUMMARY:Class Celebration Assembly for 6AH
DESCRIPTION:
URL:https://www.christchurch.wilts.sch.uk/calendar/class-celebration-assembly-for-6ah-2/
END:VEVENT
END:VCALENDAR